BEGIN:VCALENDAR
VERSION:2.0
PRODID:-//Autism Society of Indiana - ECPv6.15.20//NONSGML v1.0//EN
CALSCALE:GREGORIAN
METHOD:PUBLISH
X-ORIGINAL-URL:https://www.autismsocietyofindiana.org
X-WR-CALDESC:Events for Autism Society of Indiana
REFRESH-INTERVAL;VALUE=DURATION:PT1H
X-Robots-Tag:noindex
X-PUBLISHED-TTL:PT1H
BEGIN:VTIMEZONE
TZID:America/Indiana/Indianapolis
BEGIN:DAYLIGHT
TZOFFSETFROM:-0500
TZOFFSETTO:-0400
TZNAME:EDT
DTSTART:20250309T070000
END:DAYLIGHT
BEGIN:STANDARD
TZOFFSETFROM:-0400
TZOFFSETTO:-0500
TZNAME:EST
DTSTART:20251102T060000
END:STANDARD
BEGIN:DAYLIGHT
TZOFFSETFROM:-0500
TZOFFSETTO:-0400
TZNAME:EDT
DTSTART:20260308T070000
END:DAYLIGHT
BEGIN:STANDARD
TZOFFSETFROM:-0400
TZOFFSETTO:-0500
TZNAME:EST
DTSTART:20261101T060000
END:STANDARD
BEGIN:DAYLIGHT
TZOFFSETFROM:-0500
TZOFFSETTO:-0400
TZNAME:EDT
DTSTART:20270314T070000
END:DAYLIGHT
BEGIN:STANDARD
TZOFFSETFROM:-0400
TZOFFSETTO:-0500
TZNAME:EST
DTSTART:20271107T060000
END:STANDARD
END:VTIMEZONE
BEGIN:VEVENT
DTSTART;TZID=America/Indiana/Indianapolis:20260404T080000
DTEND;TZID=America/Indiana/Indianapolis:20260404T090000
DTSTAMP:20260422T013818
CREATED:20260303T184417Z
LAST-MODIFIED:20260303T184417Z
UID:10000170-1775289600-1775293200@www.autismsocietyofindiana.org
SUMMARY:Sibs in Sync-April 2026
DESCRIPTION:Join us for our monthly Sibs in Sync gathering at the Alexandria Bakery on April 4th from 8-9am. \n“For every sib big or small—we’ve got donuts for all!” \nThis group is designed for children ages 4–14 who have a sibling with a disability. Come enjoy a sweet treat and spend time with others in our community who share similar experiences. We can’t wait to see you there!
URL:https://www.autismsocietyofindiana.org/event/sibs-in-sync-april-2026/
LOCATION:Alexandria Bakery\, 1617 S Park Ave.\, Alexandria\, IN\, 46001\, United States
END:VEVENT
END:VCALENDAR