BEGIN:VCALENDAR
VERSION:2.0
PRODID:-//Autism Society of Indiana - ECPv6.15.20//NONSGML v1.0//EN
CALSCALE:GREGORIAN
METHOD:PUBLISH
X-WR-CALNAME:Autism Society of Indiana
X-ORIGINAL-URL:https://www.autismsocietyofindiana.org
X-WR-CALDESC:Events for Autism Society of Indiana
REFRESH-INTERVAL;VALUE=DURATION:PT1H
X-Robots-Tag:noindex
X-PUBLISHED-TTL:PT1H
BEGIN:VTIMEZONE
TZID:America/Indiana/Indianapolis
BEGIN:DAYLIGHT
TZOFFSETFROM:-0500
TZOFFSETTO:-0400
TZNAME:EDT
DTSTART:20240310T070000
END:DAYLIGHT
BEGIN:STANDARD
TZOFFSETFROM:-0400
TZOFFSETTO:-0500
TZNAME:EST
DTSTART:20241103T060000
END:STANDARD
BEGIN:DAYLIGHT
TZOFFSETFROM:-0500
TZOFFSETTO:-0400
TZNAME:EDT
DTSTART:20250309T070000
END:DAYLIGHT
BEGIN:STANDARD
TZOFFSETFROM:-0400
TZOFFSETTO:-0500
TZNAME:EST
DTSTART:20251102T060000
END:STANDARD
BEGIN:DAYLIGHT
TZOFFSETFROM:-0500
TZOFFSETTO:-0400
TZNAME:EDT
DTSTART:20260308T070000
END:DAYLIGHT
BEGIN:STANDARD
TZOFFSETFROM:-0400
TZOFFSETTO:-0500
TZNAME:EST
DTSTART:20261101T060000
END:STANDARD
END:VTIMEZONE
BEGIN:VTIMEZONE
TZID:America/Phoenix
BEGIN:STANDARD
TZOFFSETFROM:-0700
TZOFFSETTO:-0700
TZNAME:MST
DTSTART:20220101T000000
END:STANDARD
END:VTIMEZONE
BEGIN:VEVENT
DTSTART;TZID=America/Indiana/Indianapolis:20250804T190000
DTEND;TZID=America/Indiana/Indianapolis:20250804T200000
DTSTAMP:20260423T030750
CREATED:20250610T164927Z
LAST-MODIFIED:20250610T164927Z
UID:10000127-1754334000-1754337600@www.autismsocietyofindiana.org
SUMMARY:Family Support Waiver Workshop
DESCRIPTION:Join us on August 4\, 2025\, at 7:00 PM for a comprehensive Family Support Waiver\nWorkshop designed to help individuals with Autism and their families navigate\nIndiana’s Family Support Waiver (FSW). This workshop will provide essential\ninformation about the services covered under the waiver\, including respite care\,\nbehavioral support\, therapies\, and assistive technology. We will also walk you through\nthe application process\, covering eligibility requirements\, necessary documentation\,\nand submission steps. Additionally\, we will discuss what happens after being targeted\nfor the waiver\, including service plan development\, provider selection\, and how to\nbegin receiving support. Whether you are new to the waiver process or need guidance\non next steps\, this session will equip you with the knowledge and resources needed to\naccess critical services. Parents\, caregivers\, self-advocates\, and professionals are all\nencouraged to attend. \nRegister today! \nhttps://secure.qgiv.com/for/autismsocietyofindiana/event/familysupportwaiverworkshopa\nug42025/
URL:https://www.autismsocietyofindiana.org/event/family-support-waiver-workshop-3/
LOCATION:Virtual
END:VEVENT
BEGIN:VEVENT
DTSTART;TZID=America/Indiana/Indianapolis:20250707T190000
DTEND;TZID=America/Indiana/Indianapolis:20250707T200000
DTSTAMP:20260423T030750
CREATED:20250610T164713Z
LAST-MODIFIED:20250610T164713Z
UID:10000126-1751914800-1751918400@www.autismsocietyofindiana.org
SUMMARY:Autism 101
DESCRIPTION:The Autism Society of Indiana will host a virtual Autism 101 presentation on July 7\,\n2025 at 7pm via Zoom\, designed to provide individuals\, families\, educators\, and\ncommunity members with a foundational understanding of autism. This free session\nwill cover essential topics such as the signs and characteristics of autism\, the\ndiagnostic process\, and available support and assistance options throughout Indiana.\nWhether you&#39;re newly navigating an autism diagnosis or seeking to better understand\nhow to support someone on the spectrum\, this presentation offers valuable insights\nand resources specific to Indiana residents. \nRegister today!\nhttps://secure.qgiv.com/for/autismsocietyofindiana/event/autism101/
URL:https://www.autismsocietyofindiana.org/event/autism-101/
LOCATION:Virtual
END:VEVENT
BEGIN:VEVENT
DTSTART;TZID=America/Indiana/Indianapolis:20250607T180000
DTEND;TZID=America/Indiana/Indianapolis:20250607T210000
DTSTAMP:20260423T030750
CREATED:20250610T164337Z
LAST-MODIFIED:20250610T164337Z
UID:10000124-1749319200-1749330000@www.autismsocietyofindiana.org
SUMMARY:Pickleball and Paint
DESCRIPTION:Looking for an amazing evening out while supporting a worthy cause? Join us for\nPickleball and Paint at the Indianapolis Pickleball Club\, located at 1650 Industry Drive\,\nIndianapolis\, on June 7th from 6:00pm-9:00pm. All proceeds from this event will benefit\nthe Autism Society of Indiana. Let’s paint. Let’s play. Let’s give back. \nhttps://secure.qgiv.com/for/autismsocietyofindiana/event/paintpickleball/ \n 
URL:https://www.autismsocietyofindiana.org/event/pickleball-and-paint/
LOCATION:Indianapolis Pickleball Club\, 1650 Industry Drive\, Indianapolis\, IN\, 46219\, United States
END:VEVENT
BEGIN:VEVENT
DTSTART;TZID=America/Phoenix:20230401T080000
DTEND;TZID=America/Phoenix:20230401T100000
DTSTAMP:20260423T030750
CREATED:20230328T233722Z
LAST-MODIFIED:20230328T233825Z
UID:10000055-1680336000-1680343200@www.autismsocietyofindiana.org
SUMMARY:Smiley Indoor Playground
DESCRIPTION:
URL:https://www.autismsocietyofindiana.org/event/smiley-indoor-playground/
LOCATION:Smiley Indoor Playground\, Indianapolis\, IN\, United States
END:VEVENT
END:VCALENDAR