BEGIN:VCALENDAR
VERSION:2.0
PRODID:-//Autism Society of Indiana - ECPv6.15.20//NONSGML v1.0//EN
CALSCALE:GREGORIAN
METHOD:PUBLISH
X-ORIGINAL-URL:https://www.autismsocietyofindiana.org
X-WR-CALDESC:Events for Autism Society of Indiana
REFRESH-INTERVAL;VALUE=DURATION:PT1H
X-Robots-Tag:noindex
X-PUBLISHED-TTL:PT1H
BEGIN:VTIMEZONE
TZID:America/Phoenix
BEGIN:STANDARD
TZOFFSETFROM:-0700
TZOFFSETTO:-0700
TZNAME:MST
DTSTART:20240101T000000
END:STANDARD
END:VTIMEZONE
BEGIN:VEVENT
DTSTART;TZID=America/Phoenix:20250510T140000
DTEND;TZID=America/Phoenix:20250510T160000
DTSTAMP:20260422T191140
CREATED:20250505T171616Z
LAST-MODIFIED:20250505T171616Z
UID:10000123-1746885600-1746892800@www.autismsocietyofindiana.org
SUMMARY:Soaring for Autism
DESCRIPTION:
URL:https://www.autismsocietyofindiana.org/event/soaring-for-autism-2/
LOCATION:Indianapolis International Airport\, 7800 Col H Weir Cook Memorial Drive\, Indianapolis\, IN\, 46241\, United States
END:VEVENT
END:VCALENDAR